BEGIN:VCALENDAR
VERSION:2.0
PRODID:-//GIPAOc - ECPv6.15.20//NONSGML v1.0//EN
CALSCALE:GREGORIAN
METHOD:PUBLISH
X-ORIGINAL-URL:https://www.gipaoc.fr
X-WR-CALDESC:Évènements pour GIPAOc
REFRESH-INTERVAL;VALUE=DURATION:PT1H
X-Robots-Tag:noindex
X-PUBLISHED-TTL:PT1H
BEGIN:VTIMEZONE
TZID:UTC
BEGIN:STANDARD
TZOFFSETFROM:+0000
TZOFFSETTO:+0000
TZNAME:UTC
DTSTART:20250101T000000
END:STANDARD
END:VTIMEZONE
BEGIN:VEVENT
DTSTART;TZID=UTC:20260619T093000
DTEND;TZID=UTC:20260619T170000
DTSTAMP:20260419T033255
CREATED:20251217T104923Z
LAST-MODIFIED:20251217T105048Z
UID:2378-1781861400-1781888400@www.gipaoc.fr
SUMMARY:Réunion régionale Oncogériatrie
DESCRIPTION:La réunion régionale Oncogériatrie 2026 se déroulera le vendredi 19 juin de 09h30 à 17h00 en format hybride\, à Toulouse (Meeting Lab) et en accès virtuel. \n\n\n\nUn préprogramme sera bientôt disponible. \n\n\n\n\nInscription
URL:https://www.gipaoc.fr/agenda/reunion-regionale-oncogeriatrie/
LOCATION:Meeting Lab 5 Rue St Pantaléon 31000 Toulouse\, Meeting Lab 5 Rue St Pantaléon 31000 Toulouse
CATEGORIES:Congrès,Pro
END:VEVENT
END:VCALENDAR