BEGIN:VCALENDAR
VERSION:2.0
PRODID:-//GIPAOc - ECPv6.15.20//NONSGML v1.0//EN
CALSCALE:GREGORIAN
METHOD:PUBLISH
X-WR-CALNAME:GIPAOc
X-ORIGINAL-URL:https://www.gipaoc.fr
X-WR-CALDESC:Évènements pour GIPAOc
REFRESH-INTERVAL;VALUE=DURATION:PT1H
X-Robots-Tag:noindex
X-PUBLISHED-TTL:PT1H
BEGIN:VTIMEZONE
TZID:UTC
BEGIN:STANDARD
TZOFFSETFROM:+0000
TZOFFSETTO:+0000
TZNAME:UTC
DTSTART:20250101T000000
END:STANDARD
END:VTIMEZONE
BEGIN:VEVENT
DTSTART;TZID=UTC:20260917T080000
DTEND;TZID=UTC:20260918T170000
DTSTAMP:20260420T015444
CREATED:20251022T130215Z
LAST-MODIFIED:20251217T105544Z
UID:1290-1789632000-1789750800@www.gipaoc.fr
SUMMARY:Journée du GERS-P (Groupe Exercice\, Réadaptation\, Sport et Prévention)
DESCRIPTION:Les Journées Nationales du GERS-P sont l’événement annuel organisé par le Groupe Exercice\, Réadaptation\, Sport et Prévention de la Société Française de Cardiologie (SFC). Elles visent à :– Promouvoir l’exercice adapté et la réadaptation cardiovasculaire– Partager les avancées en cardiologie du sport et prévention– Favoriser les échanges interdisciplinaires entre cardiologues\, IPA\, médecin du sport\, rééducations\, chercheurs et autres paramédicaux \n\n\n\n\n\n\n\n\nInscription
URL:https://www.gipaoc.fr/agenda/bbb/
LOCATION:Deauville\, DEAUVILLE
CATEGORIES:Congrès
END:VEVENT
BEGIN:VEVENT
DTSTART;TZID=UTC:20260924T080000
DTEND;TZID=UTC:20260925T180000
DTSTAMP:20260420T015444
CREATED:20260311T082659Z
LAST-MODIFIED:20260311T082707Z
UID:2766-1790236800-1790359200@www.gipaoc.fr
SUMMARY:JFIC-CAT
DESCRIPTION:Les 24 et 25 septembre 2026\, rendez-vous sur la prochaine édition des Journées Francophones de l’Insuffisance Cardiaque\, des Cardiomyopathies\, de l’Assistance et de la Transplantation cardiaque (JFIC-CAT)\, le congrès du Groupe Insuffisance Cardiaque et Cardiomyopathies (GICC) de la SFC qui se tiendra au Centre de Congrès Pierre Baudis à Toulouse
URL:https://www.gipaoc.fr/agenda/jfic-cat/
LOCATION:Centre de Congrès Pierre Baudis à Toulouse\, 11 Esplanade compans caffarelli\, Toulouse\, 31000
CATEGORIES:Congrès
ATTACH;FMTTYPE=image/png:https://www.gipaoc.fr/wp-content/uploads/2026/03/JFIC.png
ORGANIZER;CN="SFC - Soci%C3%A9t%C3%A9 Fran%C3%A7aise de Cardiologie":MAILTO:cellule.congres@sfcardio.fr
END:VEVENT
END:VCALENDAR